Workbook

Sheet Start Here
A1: SetLift Strength Log
A2: A free workout log that does the progressive overload math for you.
A4: How to use it
A5: 1. Log one row per set on the Workout Log tab: date, workout, exercise, set number, weight, and reps.
A6: 2. Pick the exercise from the dropdown. To add your own, type it on the Exercises tab with its rep target and weight jump.
A7: 3. On the last set of each exercise, Next Session tells you what to do next time:
A8: Add weight: every set reached the top of the rep range, so add the weight jump next time.
A9: Same weight: keep the weight and try to beat today's reps.
A10: 4. The PRs tab updates on its own with your heaviest set and best estimated 1RM for each exercise.
A12: Good to know
A13: Use lbs or kg, just stay consistent. If you use kg, change the Weight Jump column on the Exercises tab to kg amounts (for example, 2.5 kg instead of 5 lbs).
A14: Shaded columns are calculated. Don't type in them.
... A19: Made by SetLift: setlift.app

Sheet Workout Log
A1: Date | B1: Workout | C1: Exercise | D1: Set | E1: Weight | F1: Reps | G1: Target Reps | H1: Est. 1RM | I1: Next Session | J1: Notes
A2: 46307 | B2: Push | C2: Barbell Incline Bench Press | D2: 1 | E2: 135 | F2: 6 | G2: =IF($C2="","",IFERROR(INDEX(Exercises!$D:$D,MATCH($C2,Exercises!$A:$A,0)),"")) | H2: =IF(OR($E2="",$F2="",$F2>15),"",IF($F2=1,$E2,ROUND($E2*(1+$F2/30),1))) | I2: =IF(OR($G2="",$E2="",$F2=""),"",IF(COUNTIFS($A:$A,$A2,$C:$C,$C2,$D:$D,">"&$D2)>0,"",IF(COUNTIFS($A:$A,$A2,$C:$C,$C2,$F:$F,"<"&$G2)=0,"Add weight: "&($E2+INDEX(Exercises!$E:$E,MATCH($C2,Exercises!$A:$A,0))),"Same weight: "&$E2))) | J2: Example row
A3: 46307 | B3: Push | C3: Barbell Incline Bench Press | D3: 2 | E3: 135 | F3: 6 | G3: =IF($C3="","",IFERROR(INDEX(Exercises!$D:$D,MATCH($C3,Exercises!$A:$A,0)),"")) | H3: =IF(OR($E3="",$F3="",$F3>15),"",IF($F3=1,$E3,ROUND($E3*(1+$F3/30),1))) | I3: =IF(OR($G3="",$E3="",$F3=""),"",IF(COUNTIFS($A:$A,$A3,$C:$C,$C3,$D:$D,">"&$D3)>0,"",IF(COUNTIFS($A:$A,$A3,$C:$C,$C3,$F:$F,"<"&$G3)=0,"Add weight: "&($E3+INDEX(Exercises!$E:$E,MATCH($C3,Exercises!$A:$A,0))),"Same weight: "&$E3)))
A4: 46307 | B4: Push | C4: Barbell Incline Bench Press | D4: 3 | E4: 135 | F4: 6 | G4: =IF($C4="","",IFERROR(INDEX(Exercises!$D:$D,MATCH($C4,Exercises!$A:$A,0)),"")) | H4: =IF(OR($E4="",$F4="",$F4>15),"",IF($F4=1,$E4,ROUND($E4*(1+$F4/30),1))) | I4: =IF(OR($G4="",$E4="",$F4=""),"",IF(COUNTIFS($A:$A,$A4,$C:$C,$C4,$D:$D,">"&$D4)>0,"",IF(COUNTIFS($A:$A,$A4,$C:$C,$C4,$F:$F,"<"&$G4)=0,"Add weight: "&($E4+INDEX(Exercises!$E:$E,MATCH($C4,Exercises!$A:$A,0))),"Same weight: "&$E4)))
A5: 46307 | B5: Push | C5: Flat Dumbbell Bench Press | D5: 1 | E5: 60 | F5: 12 | G5: =IF($C5="","",IFERROR(INDEX(Exercises!$D:$D,MATCH($C5,Exercises!$A:$A,0)),"")) | H5: =IF(OR($E5="",$F5="",$F5>15),"",IF($F5=1,$E5,ROUND($E5*(1+$F5/30),1))) | I5: =IF(OR($G5="",$E5="",$F5=""),"",IF(COUNTIFS($A:$A,$A5,$C:$C,$C5,$D:$D,">"&$D5)>0,"",IF(COUNTIFS($A:$A,$A5,$C:$C,$C5,$F:$F,"<"&$G5)=0,"Add weight: "&($E5+INDEX(Exercises!$E:$E,MATCH($C5,Exercises!$A:$A,0))),"Same weight: "&$E5)))
A6: 46307 | B6: Push | C6: Flat Dumbbell Bench Press | D6: 2 | E6: 60 | F6: 11 | G6: =IF($C6="","",IFERROR(INDEX(Exercises!$D:$D,MATCH($C6,Exercises!$A:$A,0)),"")) | H6: =IF(OR($E6="",$F6="",$F6>15),"",IF($F6=1,$E6,ROUND($E6*(1+$F6/30),1))) | I6: =IF(OR($G6="",$E6="",$F6=""),"",IF(COUNTIFS($A:$A,$A6,$C:$C,$C6,$D:$D,">"&$D6)>0,"",IF(COUNTIFS($A:$A,$A6,$C:$C,$C6,$F:$F,"<"&$G6)=0,"Add weight: "&($E6+INDEX(Exercises!$E:$E,MATCH($C6,Exercises!$A:$A,0))),"Same weight: "&$E6)))
A7: 46307 | B7: Push | C7: Flat Dumbbell Bench Press | D7: 3 | E7: 60 | F7: 10 | G7: =IF($C7="","",IFERROR(INDEX(Exercises!$D:$D,MATCH($C7,Exercises!$A:$A,0)),"")) | H7: =IF(OR($E7="",$F7="",$F7>15),"",IF($F7=1,$E7,ROUND($E7*(1+$F7/30),1))) | I7: =IF(OR($G7="",$E7="",$F7=""),"",IF(COUNTIFS($A:$A,$A7,$C:$C,$C7,$D:$D,">"&$D7)>0,"",IF(COUNTIFS($A:$A,$A7,$C:$C,$C7,$F:$F,"<"&$G7)=0,"Add weight: "&($E7+INDEX(Exercises!$E:$E,MATCH($C7,Exercises!$A:$A,0))),"Same weight: "&$E7)))
G8: =IF($C8="","",IFERROR(INDEX(Exercises!$D:$D,MATCH($C8,Exercises!$A:$A,0)),"")) | H8: =IF(OR($E8="",$F8="",$F8>15),"",IF($F8=1,$E8,ROUND($E8*(1+$F8/30),1))) | I8: =IF(OR($G8="",$E8="",$F8=""),"",IF(COUNTIFS($A:$A,$A8,$C:$C,$C8,$D:$D,">"&$D8)>0,"",IF(COUNTIFS($A:$A,$A8,$C:$C,$C8,$F:$F,"<"&$G8)=0,"Add weight: "&($E8+INDEX(Exercises!$E:$E,MATCH($C8,Exercises!$A:$A,0))),"Same weight: "&$E8)))
G9: =IF($C9="","",IFERROR(INDEX(Exercises!$D:$D,MATCH($C9,Exercises!$A:$A,0)),"")) | H9: =IF(OR($E9="",$F9="",$F9>15),"",IF($F9=1,$E9,ROUND($E9*(1+$F9/30),1))) | I9: =IF(OR($G9="",$E9="",$F9=""),"",IF(COUNTIFS($A:$A,$A9,$C:$C,$C9,$D:$D,">"&$D9)>0,"",IF(COUNTIFS($A:$A,$A9,$C:$C,$C9,$F:$F,"<"&$G9)=0,"Add weight: "&($E9+INDEX(Exercises!$E:$E,MATCH($C9,Exercises!$A:$A,0))),"Same weight: "&$E9)))
G10: =IF($C10="","",IFERROR(INDEX(Exercises!$D:$D,MATCH($C10,Exercises!$A:$A,0)),"")) | H10: =IF(OR($E10="",$F10="",$F10>15),"",IF($F10=1,$E10,ROUND($E10*(1+$F10/30),1))) | I10: =IF(OR($G10="",$E10="",$F10=""),"",IF(COUNTIFS($A:$A,$A10,$C:$C,$C10,$D:$D,">"&$D10)>0,"",IF(COUNTIFS($A:$A,$A10,$C:$C,$C10,$F:$F,"<"&$G10)=0,"Add weight: "&($E10+INDEX(Exercises!$E:$E,MATCH($C10,Exercises!$A:$A,0))),"Same weight: "&$E10)))
G11: =IF($C11="","",IFERROR(INDEX(Exercises!$D:$D,MATCH($C11,Exercises!$A:$A,0)),"")) | H11: =IF(OR($E11="",$F11="",$F11>15),"",IF($F11=1,$E11,ROUND($E11*(1+$F11/30),1))) | I11: =IF(OR($G11="",$E11="",$F11=""),"",IF(COUNTIFS($A:$A,$A11,$C:$C,$C11,$D:$D,">"&$D11)>0,"",IF(COUNTIFS($A:$A,$A11,$C:$C,$C11,$F:$F,"<"&$G11)=0,"Add weight: "&($E11+INDEX(Exercises!$E:$E,MATCH($C11,Exercises!$A:$A,0))),"Same weight: "&$E11)))
G12: =IF($C12="","",IFERROR(INDEX(Exercises!$D:$D,MATCH($C12,Exercises!$A:$A,0)),"")) | H12: =IF(OR($E12="",$F12="",$F12>15),"",IF($F12=1,$E12,ROUND($E12*(1+$F12/30),1))) | I12: =IF(OR($G12="",$E12="",$F12=""),"",IF(COUNTIFS($A:$A,$A12,$C:$C,$C12,$D:$D,">"&$D12)>0,"",IF(COUNTIFS($A:$A,$A12,$C:$C,$C12,$F:$F,"<"&$G12)=0,"Add weight: "&($E12+INDEX(Exercises!$E:$E,MATCH($C12,Exercises!$A:$A,0))),"Same weight: "&$E12)))
G13: =IF($C13="","",IFERROR(INDEX(Exercises!$D:$D,MATCH($C13,Exercises!$A:$A,0)),"")) | H13: =IF(OR($E13="",$F13="",$F13>15),"",IF($F13=1,$E13,ROUND($E13*(1+$F13/30),1))) | I13: =IF(OR($G13="",$E13="",$F13=""),"",IF(COUNTIFS($A:$A,$A13,$C:$C,$C13,$D:$D,">"&$D13)>0,"",IF(COUNTIFS($A:$A,$A13,$C:$C,$C13,$F:$F,"<"&$G13)=0,"Add weight: "&($E13+INDEX(Exercises!$E:$E,MATCH($C13,Exercises!$A:$A,0))),"Same weight: "&$E13)))
G14: =IF($C14="","",IFERROR(INDEX(Exercises!$D:$D,MATCH($C14,Exercises!$A:$A,0)),"")) | H14: =IF(OR($E14="",$F14="",$F14>15),"",IF($F14=1,$E14,ROUND($E14*(1+$F14/30),1))) | I14: =IF(OR($G14="",$E14="",$F14=""),"",IF(COUNTIFS($A:$A,$A14,$C:$C,$C14,$D:$D,">"&$D14)>0,"",IF(COUNTIFS($A:$A,$A14,$C:$C,$C14,$F:$F,"<"&$G14)=0,"Add weight: "&($E14+INDEX(Exercises!$E:$E,MATCH($C14,Exercises!$A:$A,0))),"Same weight: "&$E14)))
G15: =IF($C15="","",IFERROR(INDEX(Exercises!$D:$D,MATCH($C15,Exercises!$A:$A,0)),"")) | H15: =IF(OR($E15="",$F15="",$F15>15),"",IF($F15=1,$E15,ROUND($E15*(1+$F15/30),1))) | I15: =IF(OR($G15="",$E15="",$F15=""),"",IF(COUNTIFS($A:$A,$A15,$C:$C,$C15,$D:$D,">"&$D15)>0,"",IF(COUNTIFS($A:$A,$A15,$C:$C,$C15,$F:$F,"<"&$G15)=0,"Add weight: "&($E15+INDEX(Exercises!$E:$E,MATCH($C15,Exercises!$A:$A,0))),"Same weight: "&$E15)))
G16: =IF($C16="","",IFERROR(INDEX(Exercises!$D:$D,MATCH($C16,Exercises!$A:$A,0)),"")) | H16: =IF(OR($E16="",$F16="",$F16>15),"",IF($F16=1,$E16,ROUND($E16*(1+$F16/30),1))) | I16: =IF(OR($G16="",$E16="",$F16=""),"",IF(COUNTIFS($A:$A,$A16,$C:$C,$C16,$D:$D,">"&$D16)>0,"",IF(COUNTIFS($A:$A,$A16,$C:$C,$C16,$F:$F,"<"&$G16)=0,"Add weight: "&($E16+INDEX(Exercises!$E:$E,MATCH($C16,Exercises!$A:$A,0))),"Same weight: "&$E16)))
G17: =IF($C17="","",IFERROR(INDEX(Exercises!$D:$D,MATCH($C17,Exercises!$A:$A,0)),"")) | H17: =IF(OR($E17="",$F17="",$F17>15),"",IF($F17=1,$E17,ROUND($E17*(1+$F17/30),1))) | I17: =IF(OR($G17="",$E17="",$F17=""),"",IF(COUNTIFS($A:$A,$A17,$C:$C,$C17,$D:$D,">"&$D17)>0,"",IF(COUNTIFS($A:$A,$A17,$C:$C,$C17,$F:$F,"<"&$G17)=0,"Add weight: "&($E17+INDEX(Exercises!$E:$E,MATCH($C17,Exercises!$A:$A,0))),"Same weight: "&$E17)))
G18: =IF($C18="","",IFERROR(INDEX(Exercises!$D:$D,MATCH($C18,Exercises!$A:$A,0)),"")) | H18: =IF(OR($E18="",$F18="",$F18>15),"",IF($F18=1,$E18,ROUND($E18*(1+$F18/30),1))) | I18: =IF(OR($G18="",$E18="",$F18=""),"",IF(COUNTIFS($A:$A,$A18,$C:$C,$C18,$D:$D,">"&$D18)>0,"",IF(COUNTIFS($A:$A,$A18,$C:$C,$C18,$F:$F,"<"&$G18)=0,"Add weight: "&($E18+INDEX(Exercises!$E:$E,MATCH($C18,Exercises!$A:$A,0))),"Same weight: "&$E18)))
G19: =IF($C19="","",IFERROR(INDEX(Exercises!$D:$D,MATCH($C19,Exercises!$A:$A,0)),"")) | H19: =IF(OR($E19="",$F19="",$F19>15),"",IF($F19=1,$E19,ROUND($E19*(1+$F19/30),1))) | I19: =IF(OR($G19="",$E19="",$F19=""),"",IF(COUNTIFS($A:$A,$A19,$C:$C,$C19,$D:$D,">"&$D19)>0,"",IF(COUNTIFS($A:$A,$A19,$C:$C,$C19,$F:$F,"<"&$G19)=0,"Add weight: "&($E19+INDEX(Exercises!$E:$E,MATCH($C19,Exercises!$A:$A,0))),"Same weight: "&$E19)))
... G301: =IF($C301="","",IFERROR(INDEX(Exercises!$D:$D,MATCH($C301,Exercises!$A:$A,0)),"")) | H301: =IF(OR($E301="",$F301="",$F301>15),"",IF($F301=1,$E301,ROUND($E301*(1+$F301/30),1))) | I301: =IF(OR($G301="",$E301="",$F301=""),"",IF(COUNTIFS($A:$A,$A301,$C:$C,$C301,$D:$D,">"&$D301)>0,"",IF(COUNTIFS($A:$A,$A301,$C:$C,$C301,$F:$F,"<"&$G301)=0,"Add weight: "&($E301+INDEX(Exercises!$E:$E,MATCH($C301,Exercises!$A:$A,0))),"Same weight: "&$E301)))

Sheet PRs
A1: Exercise | B1: Heaviest Weight | C1: Best Est. 1RM | D1: Last Trained
A2: =IF(Exercises!$A2="","",Exercises!$A2) | B2: =IF($A2="","",IF(_xlfn.MAXIFS('Workout Log'!$E:$E,'Workout Log'!$C:$C,$A2)=0,"",_xlfn.MAXIFS('Workout Log'!$E:$E,'Workout Log'!$C:$C,$A2))) | C2: =IF($A2="","",IF(_xlfn.MAXIFS('Workout Log'!$H:$H,'Workout Log'!$C:$C,$A2)=0,"",_xlfn.MAXIFS('Workout Log'!$H:$H,'Workout Log'!$C:$C,$A2))) | D2: =IF($A2="","",IF(_xlfn.MAXIFS('Workout Log'!$A:$A,'Workout Log'!$C:$C,$A2)=0,"",_xlfn.MAXIFS('Workout Log'!$A:$A,'Workout Log'!$C:$C,$A2)))
A3: =IF(Exercises!$A3="","",Exercises!$A3) | B3: =IF($A3="","",IF(_xlfn.MAXIFS('Workout Log'!$E:$E,'Workout Log'!$C:$C,$A3)=0,"",_xlfn.MAXIFS('Workout Log'!$E:$E,'Workout Log'!$C:$C,$A3))) | C3: =IF($A3="","",IF(_xlfn.MAXIFS('Workout Log'!$H:$H,'Workout Log'!$C:$C,$A3)=0,"",_xlfn.MAXIFS('Workout Log'!$H:$H,'Workout Log'!$C:$C,$A3))) | D3: =IF($A3="","",IF(_xlfn.MAXIFS('Workout Log'!$A:$A,'Workout Log'!$C:$C,$A3)=0,"",_xlfn.MAXIFS('Workout Log'!$A:$A,'Workout Log'!$C:$C,$A3)))
A4: =IF(Exercises!$A4="","",Exercises!$A4) | B4: =IF($A4="","",IF(_xlfn.MAXIFS('Workout Log'!$E:$E,'Workout Log'!$C:$C,$A4)=0,"",_xlfn.MAXIFS('Workout Log'!$E:$E,'Workout Log'!$C:$C,$A4))) | C4: =IF($A4="","",IF(_xlfn.MAXIFS('Workout Log'!$H:$H,'Workout Log'!$C:$C,$A4)=0,"",_xlfn.MAXIFS('Workout Log'!$H:$H,'Workout Log'!$C:$C,$A4))) | D4: =IF($A4="","",IF(_xlfn.MAXIFS('Workout Log'!$A:$A,'Workout Log'!$C:$C,$A4)=0,"",_xlfn.MAXIFS('Workout Log'!$A:$A,'Workout Log'!$C:$C,$A4)))
A5: =IF(Exercises!$A5="","",Exercises!$A5) | B5: =IF($A5="","",IF(_xlfn.MAXIFS('Workout Log'!$E:$E,'Workout Log'!$C:$C,$A5)=0,"",_xlfn.MAXIFS('Workout Log'!$E:$E,'Workout Log'!$C:$C,$A5))) | C5: =IF($A5="","",IF(_xlfn.MAXIFS('Workout Log'!$H:$H,'Workout Log'!$C:$C,$A5)=0,"",_xlfn.MAXIFS('Workout Log'!$H:$H,'Workout Log'!$C:$C,$A5))) | D5: =IF($A5="","",IF(_xlfn.MAXIFS('Workout Log'!$A:$A,'Workout Log'!$C:$C,$A5)=0,"",_xlfn.MAXIFS('Workout Log'!$A:$A,'Workout Log'!$C:$C,$A5)))
A6: =IF(Exercises!$A6="","",Exercises!$A6) | B6: =IF($A6="","",IF(_xlfn.MAXIFS('Workout Log'!$E:$E,'Workout Log'!$C:$C,$A6)=0,"",_xlfn.MAXIFS('Workout Log'!$E:$E,'Workout Log'!$C:$C,$A6))) | C6: =IF($A6="","",IF(_xlfn.MAXIFS('Workout Log'!$H:$H,'Workout Log'!$C:$C,$A6)=0,"",_xlfn.MAXIFS('Workout Log'!$H:$H,'Workout Log'!$C:$C,$A6))) | D6: =IF($A6="","",IF(_xlfn.MAXIFS('Workout Log'!$A:$A,'Workout Log'!$C:$C,$A6)=0,"",_xlfn.MAXIFS('Workout Log'!$A:$A,'Workout Log'!$C:$C,$A6)))
A7: =IF(Exercises!$A7="","",Exercises!$A7) | B7: =IF($A7="","",IF(_xlfn.MAXIFS('Workout Log'!$E:$E,'Workout Log'!$C:$C,$A7)=0,"",_xlfn.MAXIFS('Workout Log'!$E:$E,'Workout Log'!$C:$C,$A7))) | C7: =IF($A7="","",IF(_xlfn.MAXIFS('Workout Log'!$H:$H,'Workout Log'!$C:$C,$A7)=0,"",_xlfn.MAXIFS('Workout Log'!$H:$H,'Workout Log'!$C:$C,$A7))) | D7: =IF($A7="","",IF(_xlfn.MAXIFS('Workout Log'!$A:$A,'Workout Log'!$C:$C,$A7)=0,"",_xlfn.MAXIFS('Workout Log'!$A:$A,'Workout Log'!$C:$C,$A7)))
A8: =IF(Exercises!$A8="","",Exercises!$A8) | B8: =IF($A8="","",IF(_xlfn.MAXIFS('Workout Log'!$E:$E,'Workout Log'!$C:$C,$A8)=0,"",_xlfn.MAXIFS('Workout Log'!$E:$E,'Workout Log'!$C:$C,$A8))) | C8: =IF($A8="","",IF(_xlfn.MAXIFS('Workout Log'!$H:$H,'Workout Log'!$C:$C,$A8)=0,"",_xlfn.MAXIFS('Workout Log'!$H:$H,'Workout Log'!$C:$C,$A8))) | D8: =IF($A8="","",IF(_xlfn.MAXIFS('Workout Log'!$A:$A,'Workout Log'!$C:$C,$A8)=0,"",_xlfn.MAXIFS('Workout Log'!$A:$A,'Workout Log'!$C:$C,$A8)))
A9: =IF(Exercises!$A9="","",Exercises!$A9) | B9: =IF($A9="","",IF(_xlfn.MAXIFS('Workout Log'!$E:$E,'Workout Log'!$C:$C,$A9)=0,"",_xlfn.MAXIFS('Workout Log'!$E:$E,'Workout Log'!$C:$C,$A9))) | C9: =IF($A9="","",IF(_xlfn.MAXIFS('Workout Log'!$H:$H,'Workout Log'!$C:$C,$A9)=0,"",_xlfn.MAXIFS('Workout Log'!$H:$H,'Workout Log'!$C:$C,$A9))) | D9: =IF($A9="","",IF(_xlfn.MAXIFS('Workout Log'!$A:$A,'Workout Log'!$C:$C,$A9)=0,"",_xlfn.MAXIFS('Workout Log'!$A:$A,'Workout Log'!$C:$C,$A9)))
A10: =IF(Exercises!$A10="","",Exercises!$A10) | B10: =IF($A10="","",IF(_xlfn.MAXIFS('Workout Log'!$E:$E,'Workout Log'!$C:$C,$A10)=0,"",_xlfn.MAXIFS('Workout Log'!$E:$E,'Workout Log'!$C:$C,$A10))) | C10: =IF($A10="","",IF(_xlfn.MAXIFS('Workout Log'!$H:$H,'Workout Log'!$C:$C,$A10)=0,"",_xlfn.MAXIFS('Workout Log'!$H:$H,'Workout Log'!$C:$C,$A10))) | D10: =IF($A10="","",IF(_xlfn.MAXIFS('Workout Log'!$A:$A,'Workout Log'!$C:$C,$A10)=0,"",_xlfn.MAXIFS('Workout Log'!$A:$A,'Workout Log'!$C:$C,$A10)))
A11: =IF(Exercises!$A11="","",Exercises!$A11) | B11: =IF($A11="","",IF(_xlfn.MAXIFS('Workout Log'!$E:$E,'Workout Log'!$C:$C,$A11)=0,"",_xlfn.MAXIFS('Workout Log'!$E:$E,'Workout Log'!$C:$C,$A11))) | C11: =IF($A11="","",IF(_xlfn.MAXIFS('Workout Log'!$H:$H,'Workout Log'!$C:$C,$A11)=0,"",_xlfn.MAXIFS('Workout Log'!$H:$H,'Workout Log'!$C:$C,$A11))) | D11: =IF($A11="","",IF(_xlfn.MAXIFS('Workout Log'!$A:$A,'Workout Log'!$C:$C,$A11)=0,"",_xlfn.MAXIFS('Workout Log'!$A:$A,'Workout Log'!$C:$C,$A11)))
A12: =IF(Exercises!$A12="","",Exercises!$A12) | B12: =IF($A12="","",IF(_xlfn.MAXIFS('Workout Log'!$E:$E,'Workout Log'!$C:$C,$A12)=0,"",_xlfn.MAXIFS('Workout Log'!$E:$E,'Workout Log'!$C:$C,$A12))) | C12: =IF($A12="","",IF(_xlfn.MAXIFS('Workout Log'!$H:$H,'Workout Log'!$C:$C,$A12)=0,"",_xlfn.MAXIFS('Workout Log'!$H:$H,'Workout Log'!$C:$C,$A12))) | D12: =IF($A12="","",IF(_xlfn.MAXIFS('Workout Log'!$A:$A,'Workout Log'!$C:$C,$A12)=0,"",_xlfn.MAXIFS('Workout Log'!$A:$A,'Workout Log'!$C:$C,$A12)))
A13: =IF(Exercises!$A13="","",Exercises!$A13) | B13: =IF($A13="","",IF(_xlfn.MAXIFS('Workout Log'!$E:$E,'Workout Log'!$C:$C,$A13)=0,"",_xlfn.MAXIFS('Workout Log'!$E:$E,'Workout Log'!$C:$C,$A13))) | C13: =IF($A13="","",IF(_xlfn.MAXIFS('Workout Log'!$H:$H,'Workout Log'!$C:$C,$A13)=0,"",_xlfn.MAXIFS('Workout Log'!$H:$H,'Workout Log'!$C:$C,$A13))) | D13: =IF($A13="","",IF(_xlfn.MAXIFS('Workout Log'!$A:$A,'Workout Log'!$C:$C,$A13)=0,"",_xlfn.MAXIFS('Workout Log'!$A:$A,'Workout Log'!$C:$C,$A13)))
... A51: =IF(Exercises!$A51="","",Exercises!$A51) | B51: =IF($A51="","",IF(_xlfn.MAXIFS('Workout Log'!$E:$E,'Workout Log'!$C:$C,$A51)=0,"",_xlfn.MAXIFS('Workout Log'!$E:$E,'Workout Log'!$C:$C,$A51))) | C51: =IF($A51="","",IF(_xlfn.MAXIFS('Workout Log'!$H:$H,'Workout Log'!$C:$C,$A51)=0,"",_xlfn.MAXIFS('Workout Log'!$H:$H,'Workout Log'!$C:$C,$A51))) | D51: =IF($A51="","",IF(_xlfn.MAXIFS('Workout Log'!$A:$A,'Workout Log'!$C:$C,$A51)=0,"",_xlfn.MAXIFS('Workout Log'!$A:$A,'Workout Log'!$C:$C,$A51)))

Sheet Exercises
A1: Exercise | B1: Workout | C1: Muscle Group | D1: Top of Rep Range | E1: Weight Jump
A2: Barbell Incline Bench Press | B2: Push | C2: Upper chest | D2: 6 | E2: 5
A3: Flat Dumbbell Bench Press | B3: Push | C3: Chest | D3: 12 | E3: 5
A4: Standing Overhead Press | B4: Push | C4: Shoulders | D4: 10 | E4: 5
A5: Cable Lateral Raise | B5: Push | C5: Side delts | D5: 15 | E5: 2.5
A6: Overhead Cable Triceps Extension | B6: Push | C6: Triceps | D6: 12 | E6: 2.5
A7: Chest-Supported T-Bar Row | B7: Pull | C7: Upper back | D7: 8 | E7: 5
A8: Neutral-Grip Lat Pulldown | B8: Pull | C8: Lats | D8: 10 | E8: 5
A9: Single-Arm Cable Row | B9: Pull | C9: Upper back | D9: 12 | E9: 2.5
A10: Rear Delt Fly | B10: Pull | C10: Rear delts | D10: 15 | E10: 2.5
A11: Incline Dumbbell Biceps Curl | B11: Pull | C11: Biceps | D11: 12 | E11: 5
A12: Barbell Back Squat | B12: Legs | C12: Quads | D12: 6 | E12: 10
A13: Romanian Deadlift | B13: Legs | C13: Hamstrings | D13: 8 | E13: 10
... A18: Barbell Deadlift | B18: Other | C18: Back and legs | D18: 5 | E18: 10
